BEGIN:VCALENDAR
VERSION:2.0
PRODID:-//The Cottages at Bluemont - ECPv6.0.13.1//NONSGML v1.0//EN
CALSCALE:GREGORIAN
METHOD:PUBLISH
X-WR-CALNAME:The Cottages at Bluemont
X-ORIGINAL-URL:https://experiencebluemont.com
X-WR-CALDESC:Events for The Cottages at Bluemont
REFRESH-INTERVAL;VALUE=DURATION:PT1H
X-Robots-Tag:noindex
X-PUBLISHED-TTL:PT1H
BEGIN:VTIMEZONE
TZID:America/New_York
BEGIN:DAYLIGHT
TZOFFSETFROM:-0500
TZOFFSETTO:-0400
TZNAME:EDT
DTSTART:20240310T070000
END:DAYLIGHT
BEGIN:STANDARD
TZOFFSETFROM:-0400
TZOFFSETTO:-0500
TZNAME:EST
DTSTART:20241103T060000
END:STANDARD
END:VTIMEZONE
BEGIN:VEVENT
DTSTART;TZID=America/New_York:20241004T080000
DTEND;TZID=America/New_York:20241019T170000
DTSTAMP:20260421T041511
CREATED:20240812T154723Z
LAST-MODIFIED:20240812T154723Z
UID:2521-1728028800-1729357200@experiencebluemont.com
SUMMARY:Adult Corn Maze
DESCRIPTION:OCTOBER 3RD\, 4TH\, 11TH\, 12TH\, 13TH\, 18TH & 19TH\nTIME 6:00 PM TO 9:00 PM\nStep aside\, kids – this one is for the grown ups! Embark on an evening of twists\, turns\, and delightful surprises at the annual Henway Hard Cider Adult Corn Maze! We’ve teamed up with Great Country Farms to create an unforgettable night under the starlit sky\, celebrating the peak of Fall in the most exciting way possible. \nTackle our one-of-a-kind “Yes Farms\, Yes Food” corn maze\, where fun and a touch of challenge await! After conquering the maze\, gather around the cozy bonfires and enjoy live music\, setting the perfect backdrop for laughter and memories. \n\nNo adult event is complete without exceptional sips. Choose your craft and enjoy either Henway Hard Cider or Bluemont Vineyard wines. Each cider and wine have been thoughtfully selected to pair perfectly with seasonal snacks. \n“BYOL” …Bring your own light! Flashlights\, headlamps\, lanterns and other creative lights are encouraged to tackle the corn maze. Costumes aren’t required\, but welcomed if you’re feeling festive this spooky season. \nTickets are $35.00 per guest\, which includes admission to the corn maze\, your first fill of either cider or wine and live music for the evening. \nGet ready to embrace the spirit of adventure\, laughter and the magic of Autumn in Virginia. This event is your chance to relive the thrill of a classic corn maze with a grown-up twist. \nOur farm vineyard is located at the foot of the Blue Ridge Mountains and just over an hour from the Washington D.C. area. After exploring Virginia Wine Country\, why not extend your visit and enjoy an overnight stay in Bluemont\, Virginia? View our four unique Bluemont Cottages surrounding our property\, each conveniently located in proximity to Bluemont Vineyard\, Great Country Farms\, Henway Hard Cider and Dirt Farm Brewing.
URL:https://experiencebluemont.com/event/adult-corn-maze-5/
LOCATION:Henway Hard Cider\, 18780 Foggy Bottom Road\, Bluemont\, VA\, 20135\, United States
ORGANIZER;CN="Henway%20Hard%20Cider":MAILTO:cheers@henwayhardcider.com
END:VEVENT
BEGIN:VEVENT
DTSTART;TZID=America/New_York:20241013T120000
DTEND;TZID=America/New_York:20241013T170000
DTSTAMP:20260421T041511
CREATED:20241002T134003Z
LAST-MODIFIED:20241002T134003Z
UID:2544-1728820800-1728838800@experiencebluemont.com
SUMMARY:Mossy Creek Fly Fishing Pop-Up at Dirt Farm
DESCRIPTION:Join us for a Mossy Creek Fly Fishing Pop-Up at Dirt Farm Brewing on October 13\, 2024 from 12-5pm!\nCome spend a day on the mountain with the team from Mossy Creek Fly Fishing! Mossy Creek fly shop is located in the heart of the Shenandoah Valley in Harrisonburg\, VA. They have been operating their fly shop\, online store\, and Orvis Endorsed guide service and fly fishing school for over 20 years! \nThey will be bringing their mobile fly shop to the mountain! The vehicle itself is a well merchandised show room stocked with everything from the essentials to get started\, hard to find items\, as well as the best gear from the best manufacturers in the industry. \nIt’s not all about the shopping\, folks! The mobile fly shop staff will offer free casting demos\, free fly tying demos\, provide expert advice on where to fish\, how to approach different fishing scenarios\, aid with outfitting folks properly\, fitting you in waders and boots\, and more! \nWhether you’re a seasoned fisherman or just curious about the sport this is the perfect opportunity to dip your toes in and learn something new with the Mossy Creek Fly Fishing team! \n\nWhen you visit us at Dirt Farm Brewing\, we hope that your experience is a true connection with the land and community. With our taproom and expansive patio comfortably nestled on the Blue Ridge mountainside\, panoramic views of the Loudoun Valley can be taken in from all angles. Enjoy a pint of farm raised beer while overlooking the field in which it was grown. With each sip we hope you can taste the fresh mountain water which runs underfoot\, the ripe produce that has been thoughtfully incorporated\, and the sense of home\, which we taste with every pint. We encourage you to sit back\, kick your boots off and share a beer with us! \n 
URL:https://experiencebluemont.com/event/mossy-creek-fly-fishing-pop-up/
LOCATION:Dirt Farm Brewing\, 18701 Foggy Bottom Road\, Bluemont\, 20135\, United States
ATTACH;FMTTYPE=image/png:https://experiencebluemont.com/wp-content/uploads/2024/10/Untitled-5-e1727875965732.png
ORGANIZER;CN="Dirt%20Farm%20Brewing":MAILTO:info@dirtfarmbrewing.com
END:VEVENT
END:VCALENDAR