BEGIN:VCALENDAR
VERSION:2.0
PRODID:-//The Cottages at Bluemont - ECPv6.0.13.1//NONSGML v1.0//EN
CALSCALE:GREGORIAN
METHOD:PUBLISH
X-WR-CALNAME:The Cottages at Bluemont
X-ORIGINAL-URL:https://experiencebluemont.com
X-WR-CALDESC:Events for The Cottages at Bluemont
REFRESH-INTERVAL;VALUE=DURATION:PT1H
X-Robots-Tag:noindex
X-PUBLISHED-TTL:PT1H
BEGIN:VTIMEZONE
TZID:America/New_York
BEGIN:DAYLIGHT
TZOFFSETFROM:-0500
TZOFFSETTO:-0400
TZNAME:EDT
DTSTART:20250309T070000
END:DAYLIGHT
BEGIN:STANDARD
TZOFFSETFROM:-0400
TZOFFSETTO:-0500
TZNAME:EST
DTSTART:20251102T060000
END:STANDARD
END:VTIMEZONE
BEGIN:VEVENT
DTSTART;TZID=America/New_York:20251003T180000
DTEND;TZID=America/New_York:20251025T210000
DTSTAMP:20260420T054230
CREATED:20250916T155838Z
LAST-MODIFIED:20250916T155838Z
UID:3051-1759514400-1761426000@experiencebluemont.com
SUMMARY:Adult Corn Maze Nights at Henway Hard Cider!
DESCRIPTION:Adult Corn Maze Nights at Henway Hard Cider!\n  \nStep into Autumn Adventure – Just for Adults! Looking for the ultimate fall event in Virginia? Leave the kids at home and grab your grown up friends for the Henway Hard Cider Adult Corn Maze Night – a thrilling\, adults-only evening of fun\, flavor\, and festive fall vibe \nWe’ve partnered with Great Country Farms to bring you a truly unique experience under the stars. Wander through our twist-filled corn maze designed to challenge and entertain\, then kick back around crackling bonfires with live music filling the crisp autumn air! \nWhat’s Included with Your Ticket ($35.00): \n\nAdmission to the one-of-a-kind adult corn maze\nA complimentary pour of Henway Hard Cider or Bluemont Vineyard wine\nLive music and cozy fire pits to keep the night buzzing!\nAccess to seasonal snacks that pair perfectly with your drinks\n\nMore info and tickets Here \nWhat to Bring \n\nBYOL – Bring Your Own Light! Flashlights\, headlamps\, lanterns – get creative!\nFestive costumes are encouraged (but not required) – show off your spooky side!\n\nWhether you’re a local looking for fun fall things to do in Loudoun County or visiting Virginia during peak leaf season\, this is the autumn night out you’ve been waiting for. \nSip\, explore\, laugh\, and make unforgettable memories at this exclusive fall celebration. \n️Tickets are limited and sell out quickly – book now and don’t miss out on this magical night! Experience the best of fall with cider in hand and adventure in your heart at the Henway Hard Cider Adult Corn Maze! \n  \n  \nOur farm vineyard is located at the foot of the Blue Ridge Mountains and just over an hour from the Washington D.C. area. After exploring Virginia Wine Country\, why not extend your visit and enjoy an overnight stay in Bluemont\, Virginia? View our four unique Bluemont Cottages surrounding our property\, each conveniently located in proximity to Bluemont Vineyard\, Great Country Farms\, Henway Hard Cider and Dirt Farm Brewing.
URL:https://experiencebluemont.com/event/adult-corn-maze-nights/
LOCATION:Henway Hard Cider\, 18780 Foggy Bottom Road\, Bluemont\, VA\, 20135\, United States
ATTACH;FMTTYPE=image/jpeg:https://experiencebluemont.com/wp-content/uploads/2025/09/Adult-Corn-Maze-Nights-Henway-2025.jpg
ORGANIZER;CN="Henway%20Hard%20Cider":MAILTO:cheers@henwayhardcider.com
END:VEVENT
BEGIN:VEVENT
DTSTART;TZID=America/New_York:20251007T183000
DTEND;TZID=America/New_York:20251007T213000
DTSTAMP:20260420T054230
CREATED:20250902T181943Z
LAST-MODIFIED:20250902T181943Z
UID:3013-1759861800-1759872600@experiencebluemont.com
SUMMARY:Full Moon Horoscope Tasting Series
DESCRIPTION:Full Moon Horoscope Tasting Series | 2025\n  \nDearest Moonbeams\, \nA cosmic evening of horoscope sharing\, intention setting and wine tasting awaits each and every attendee of Bluemont Vineyard’s one-of-a-kind Full Moon Horoscope Tasting Series (21+)! \nHeld high up the mountain at Bluemont Vineyard’s brand new tasting room\, The Barrel Haus\, this 21+ exclusive\, astrology-themed soirée will offer each guest the following: \n\none bespoke tasting of three Bluemont Vineyard wines\, each selected based on your astrological sun sign’s elemental house\none custom-written horoscope based on your astrological sun sign (researched and written with love by an actual human astrology-nerd\, not ai)\nafter-hours access to Bluemont Vineyard’s world-class vista view of the Loudoun Valley: perfect for sunset basking and star gazing\na delectable light bite spread to tantalize your taste buds and support your wine tastings.\na chance to glimpse that month’s full moon over the first ridge of the Blue Ridge Mountains\naccess to event-exclusive vendors\, like permanent jewelry vendor Pisces Moon Jewelry.\n\nHead to our website for more details and to RSVP to grab your spot! \n  \n  \nOur farm vineyard is located at the foot of the Blue Ridge Mountains and just over an hour from the Washington D.C. area. After exploring Virginia Wine Country\, why not extend your visit and enjoy an overnight stay in Bluemont\, Virginia? View our four unique Bluemont Cottages surrounding our property\, each conveniently located in proximity to Bluemont Vineyard\, Great Country Farms\, Henway Hard Cider and Dirt Farm Brewing.
URL:https://experiencebluemont.com/event/full-moon-horoscope-tasting-series/
LOCATION:Bluemont Vineyard\, 18755 Foggy Bottom Road\, Bluemont\, VA\, 20135\, United States
ATTACH;FMTTYPE=image/jpeg:https://experiencebluemont.com/wp-content/uploads/2025/09/Starry-Night.jpg
ORGANIZER;CN="Bluemont%20Vineyard":MAILTO:events@bluemontvineyard.com
END:VEVENT
END:VCALENDAR