BEGIN:VCALENDAR
VERSION:2.0
PRODID:-//The Cottages at Bluemont - ECPv6.0.13.1//NONSGML v1.0//EN
CALSCALE:GREGORIAN
METHOD:PUBLISH
X-ORIGINAL-URL:https://experiencebluemont.com
X-WR-CALDESC:Events for The Cottages at Bluemont
REFRESH-INTERVAL;VALUE=DURATION:PT1H
X-Robots-Tag:noindex
X-PUBLISHED-TTL:PT1H
BEGIN:VTIMEZONE
TZID:America/New_York
BEGIN:DAYLIGHT
TZOFFSETFROM:-0500
TZOFFSETTO:-0400
TZNAME:EDT
DTSTART:20240310T070000
END:DAYLIGHT
BEGIN:STANDARD
TZOFFSETFROM:-0400
TZOFFSETTO:-0500
TZNAME:EST
DTSTART:20241103T060000
END:STANDARD
END:VTIMEZONE
BEGIN:VEVENT
DTSTART;TZID=America/New_York:20241114T180000
DTEND;TZID=America/New_York:20241114T200000
DTSTAMP:20260421T041518
CREATED:20241025T163434Z
LAST-MODIFIED:20241025T163538Z
UID:2604-1731607200-1731614400@experiencebluemont.com
SUMMARY:Pressed Flower Pumpkin Workshop at Dirt Farm - Nov. 14\, 2024
DESCRIPTION:Join us for a Pressed Flower Pumpkin Workshop on November 14\, 2014 from 6-8pm!\n  \nJoin us at Dirt Farm on Thursday\, November 14th at 6pm for a workshop to make a gorgeous pressed flower pumpkin with Wandering Roots! These pumpkins make perfect decor from your porch to your Thanksgiving table\, and better yet\, they last a lifetime! \nEach ticket includes all materials needed to make your project:\n– 6” D artificial white pumpkin(s)\n– Enough pressed flowers to cover your pumpkin\n– Adhesive and clear coat\n– A Fun time with friends in a beautiful atmosphere\n– Instruction from your favorite plant lady \nFood and beverage available for purchase! \nGet your workshop tickets here: https://wanderingrootswv.com/products/pressed-flower-pumpkins-at-dirt-farm-brewing\n  \nWhen you visit us at Dirt Farm Brewing\, we hope that your experience is a true connection with the land and community. With our taproom and expansive patio comfortably nestled on the Blue Ridge mountainside\, panoramic views of the Loudoun Valley can be taken in from all angles. Enjoy a pint of farm raised beer while overlooking the field in which it was grown. With each sip we hope you can taste the fresh mountain water which runs underfoot\, the ripe produce that has been thoughtfully incorporated\, and the sense of home\, which we taste with every pint. We encourage you to sit back\, kick your boots off and share a beer with us! \n  \n\n 
URL:https://experiencebluemont.com/event/pressed-flower-pumpkin-workshop/
LOCATION:Dirt Farm Brewing\, 18701 Foggy Bottom Road\, Bluemont\, 20135\, United States
ATTACH;FMTTYPE=image/png:https://experiencebluemont.com/wp-content/uploads/2024/10/Untitled-e1729874105935.png
ORGANIZER;CN="Dirt%20Farm%20Brewing":MAILTO:info@dirtfarmbrewing.com
END:VEVENT
END:VCALENDAR