BEGIN:VCALENDAR
VERSION:2.0
PRODID:-//The Cottages at Bluemont - ECPv6.0.13.1//NONSGML v1.0//EN
CALSCALE:GREGORIAN
METHOD:PUBLISH
X-WR-CALNAME:The Cottages at Bluemont
X-ORIGINAL-URL:https://experiencebluemont.com
X-WR-CALDESC:Events for The Cottages at Bluemont
REFRESH-INTERVAL;VALUE=DURATION:PT1H
X-Robots-Tag:noindex
X-PUBLISHED-TTL:PT1H
BEGIN:VTIMEZONE
TZID:America/New_York
BEGIN:DAYLIGHT
TZOFFSETFROM:-0500
TZOFFSETTO:-0400
TZNAME:EDT
DTSTART:20230312T070000
END:DAYLIGHT
BEGIN:STANDARD
TZOFFSETFROM:-0400
TZOFFSETTO:-0500
TZNAME:EST
DTSTART:20231105T060000
END:STANDARD
END:VTIMEZONE
BEGIN:VEVENT
DTSTART;TZID=America/New_York:20230701T120000
DTEND;TZID=America/New_York:20230828T190000
DTSTAMP:20260420T070457
CREATED:20230530T165542Z
LAST-MODIFIED:20230531T145035Z
UID:1906-1688212800-1693249200@experiencebluemont.com
SUMMARY:TAPAS AND WINE PAIRING
DESCRIPTION:The next wine and food pairing at The Reserve taps into the world of tapas and wine. \nStunning views of the Blue Ridge Mountains set the scene for this tasting experience at The Reserve at Bluemont Vineyard. Here\, our tasting room team will guide you through a delicious journey the stories behind each wine.  Then explain each food pairing that will transport your senses to the heart of Spain. \n\n\n\n\n\n\n\n\nWhether you’re a foodie or a wine connoisseur\, this is a perfect opportunity to taste and discover new wines and flavors. \nReservations are $45.00 per guest plus tax and a 20% gratuity. Each reservation includes four pairings. \n\n\n\n\n\nOur farm vineyard is located at the foot of the Blue Ridge Mountains and just over an hour from the Washington D.C. area. After exploring Virginia Wine Country\, why not extend your visit and enjoy an overnight stay in Bluemont\, Virginia? View our four Bluemont Cottages surrounding our property\, each conveniently located in proximity to Bluemont Vineyard\, Great Country Farms\, Henway Hard Cider and Dirt Farm Brewing. From the private Stone Cottage built for two\, to the three-bedroom Blue Door Cottage\, we’ve designed four perfect Virginia Wine Country stays and getaways. \n  \nLooking for something sweet? Check out our Chocolate & Wine Pairing featuring The Conche.
URL:https://experiencebluemont.com/event/tapas-and-wine/
LOCATION:Bluemont Vineyard\, 18755 Foggy Bottom Road\, Bluemont\, VA\, 20135\, United States
ATTACH;FMTTYPE=image/png:https://experiencebluemont.com/wp-content/uploads/2023/05/Screen-Shot-2023-05-30-at-12.30.43-PM.png
END:VEVENT
BEGIN:VEVENT
DTSTART;TZID=America/New_York:20230701T120000
DTEND;TZID=America/New_York:20230828T190000
DTSTAMP:20260420T070457
CREATED:20230531T144750Z
LAST-MODIFIED:20230531T144938Z
UID:1916-1688212800-1693249200@experiencebluemont.com
SUMMARY:The Reserve: Chocolate and Wine
DESCRIPTION:We invite you to indulge in the newest chocolate and wine pairing at The Reserve at Bluemont Vineyard. Enjoy a delectable array of seasonal chocolate truffles from The Conche perfectly paired with five wines.  \nFeatured wines include tastings of Bluemont Vineyard Signature Series. Our tasting room team will guide you through this delicious journey.  \nReservations are $45.00 per guest plus tax and a 20% gratuity and include four pairings. This chocolate and wine pairing is packaged and designed to be enjoyed anywhere on property.  \nOur farm vineyard is located at the foot of the Blue Ridge Mountains and just over an hour from the Washington D.C. area. After exploring Virginia Wine Country\, why not extend your visit and enjoy an overnight stay in Bluemont\, Virginia? View our four unique Bluemont Cottages surrounding our property\, each conveniently located in proximity to Bluemont Vineyard\, Great Country Farms\, Henway Hard Cider and Dirt Farm Brewing. From the private Stone Cottage built for two\, to the three-bedroom Blue Door Cottage\, we’ve designed four perfect Virginia Wine Country stays and getaways. \n  \nAlso\, check out other food and wine pairings at The Reserve at Bluemont Vineyard including Tapas & Wine.
URL:https://experiencebluemont.com/chocolate-and-wine
LOCATION:Bluemont Vineyard\, 18755 Foggy Bottom Road\, Bluemont\, VA\, 20135\, United States
ATTACH;FMTTYPE=image/png:https://experiencebluemont.com/wp-content/uploads/2023/05/Screenshot-2023-02-14-at-12.39.38-PM.png
END:VEVENT
BEGIN:VEVENT
DTSTART;TZID=America/New_York:20230713T190000
DTEND;TZID=America/New_York:20230713T210000
DTSTAMP:20260420T070457
CREATED:20230607T194540Z
LAST-MODIFIED:20230607T194540Z
UID:1950-1689274800-1689282000@experiencebluemont.com
SUMMARY:Farm Dinner at Dirt Farm Brewing
DESCRIPTION:Join us for a Farm Dinner to welcome summer at Dirt Farm Brewing!\n  \nDine al fresco on our patio and celebrate our Farm’s Bounty with a farm style dinner on the mountain! Enjoy the early summer air with us and experience the mingling flavors of spring transitioning to summer. \nEach course will incorporate the freshest seasonal\, hand-picked produce from Great Country Farms and locally sourced meats. Enjoy a welcome beer upon arrival. Additional beer and beverages will be available for purchase. \n-Farm Dinner Menu-\nWelcome Beer: Honey Helles \nFirst Course\nMaryland Lump Crab Cake | Charred Corn-Edamame Succotash | Lemon Beurre Blanc | Baby Greens\nSuggested Pairing: Great Country American Pilsner \nSecond Course\nDry Aged Braised Short Ribs | Whipped Cauliflower Mash | Roast Tomato Pan Sauce | Blistered Green Bean Salad\nSuggested Pairing: Farm Use Pale Ale \nDessert Course\nStrawberry Panna Cotta | Candied Bacon Crumble | Warm Chocolate Drizzle\nSuggested Pairing: Milk Stout \n$65 per person + gratuity and tax.\nIf weather permits\, this will be an outdoor event. *All ticketed events are nonrefundable. Dirt Farm Brewing reserves the right to reschedule or cancel an event due to circumstances outside our control. If this event occurs\, will we offer to transfer your ticket(s) to another event. \nCSB Members receive a 15% discount on ticket price. Learn more about our CSB by visiting www.dirtfarmbrewing.com/csb-membership/ \n  \n \n\n\nPowered by SimpleTix\n\n\nMake a night of it! Stay in one of our cozy cottages right here in Bluemont! Learn more here: https://experiencebluemont.com/
URL:https://experiencebluemont.com/event/farm-dinner-at-dirt-farm-brewing/
LOCATION:Dirt Farm Brewing\, 18701 Foggy Bottom Road\, Bluemont\, 20135\, United States
ATTACH;FMTTYPE=image/jpeg:https://experiencebluemont.com/wp-content/uploads/2023/06/Photo-Jun-17-8-23-00-PM-scaled-e1686167077554.jpg
ORGANIZER;CN="Dirt%20Farm%20Brewing":MAILTO:info@dirtfarmbrewing.com
END:VEVENT
END:VCALENDAR