BEGIN:VCALENDAR
VERSION:2.0
PRODID:-//The Cottages at Bluemont - ECPv6.0.13.1//NONSGML v1.0//EN
CALSCALE:GREGORIAN
METHOD:PUBLISH
X-ORIGINAL-URL:https://experiencebluemont.com
X-WR-CALDESC:Events for The Cottages at Bluemont
REFRESH-INTERVAL;VALUE=DURATION:PT1H
X-Robots-Tag:noindex
X-PUBLISHED-TTL:PT1H
BEGIN:VTIMEZONE
TZID:America/New_York
BEGIN:DAYLIGHT
TZOFFSETFROM:-0500
TZOFFSETTO:-0400
TZNAME:EDT
DTSTART:20230312T070000
END:DAYLIGHT
BEGIN:STANDARD
TZOFFSETFROM:-0400
TZOFFSETTO:-0500
TZNAME:EST
DTSTART:20231105T060000
END:STANDARD
END:VTIMEZONE
BEGIN:VEVENT
DTSTART;TZID=America/New_York:20230602T110000
DTEND;TZID=America/New_York:20230626T190000
DTSTAMP:20260420T104042
CREATED:20230530T143239Z
LAST-MODIFIED:20230530T165355Z
UID:1891-1685703600-1687806000@experiencebluemont.com
SUMMARY:The Reserve: Macaron & Wine Pairing
DESCRIPTION:Join us for a weekend of macaron and wine! We invite you to indulge in the newest pairing featuring macarons and wine at The Reserve at Bluemont Vineyard. Take your palate on a trip to Paris and enjoy a delectable array of seasonal macarons prepared by The Conche\, perfectly paired with four exquisite wines. Our tasting room team will guide you through this delicious journey and share the stories behind each wine and its origin. \n  \nReserve your ticket in advance for $45 per person. Each Tasting includes four macaron and wine pairings. \n  \nMacaron and Wine Menu\n  \nNV “Signature” Sparkling White \npaired with \nYuzu Macaron \n2021 Vidal Blanc “Script” \npaired with \nPistachio Macaron \n2021 Viognier Reserve \npaired with \nSalted Caramel Macaron \n2022 Tannat Rosé \npaired with \nStrawberry Macaron \nOur farm vineyard is located at the foot of the Blue Ridge Mountains and just over an hour from the Washington D.C. area. After exploring Virginia Wine Country\, why not extend your visit and enjoy an overnight stay in Bluemont\, Virginia? View our four unique Bluemont Cottages surrounding our property\, each conveniently located in proximity to Bluemont Vineyard\, Great Country Farms\, Henway Hard Cider and Dirt Farm Brewing. From the private Stone Cottage built for two\, to the three-bedroom Blue Door Cottage\, we’ve designed four perfect Virginia Wine Country stays and getaways. \n  \nCheck out other food and wine pairings at The Reserve at Bluemont Vineyard including Taste of Rosé\, Tapas & Wine and the newly release Conche Chocolate & Wine Pairing.
URL:https://experiencebluemont.com/event/macaron-and-wine/
LOCATION:Bluemont Vineyard\, 18755 Foggy Bottom Road\, Bluemont\, VA\, 20135\, United States
ATTACH;FMTTYPE=image/png:https://experiencebluemont.com/wp-content/uploads/2023/05/Screenshot-2023-05-30-at-10.16.08-AM.png
END:VEVENT
BEGIN:VEVENT
DTSTART;TZID=America/New_York:20230602T110000
DTEND;TZID=America/New_York:20230626T190000
DTSTAMP:20260420T104042
CREATED:20230530T145342Z
LAST-MODIFIED:20230530T151652Z
UID:1897-1685703600-1687806000@experiencebluemont.com
SUMMARY:The Reserve: Taste of Rosé Pairing
DESCRIPTION:Join us at The Reserve to sip through our newest tasting series\, Taste of Rosé. The rosé process exemplifies a creative expression from the winemaker. Each bottle selected tells a different winemaker’s vision & story. \nWe’ll welcome you with a refreshing cocktail then talk and taste through a lineup of five rosé wines. \nTHIS MONTH’S TASTING LINEUP FEATURES:\n  \nFiguière\, Première Côtes de Provence Rosé (2021)  \nYalumba\, The Y Series Sangiovese Rosé (2021) \nBluemont Vineyard Tannat Rosé (2022) \nInazio Urruzola\, Txakoli de Getaria Txakolina Rosé \nJNSQ\, Rosé Cru (NV) \nEach wine has been thoughtfully paired with culinary bites designed to elevate the unique elements of each wine. \nReservations are $45.00 per guest plus tax and a 20% gratuity and include four pairings. \n  \nOur farm vineyard is located at the foot of the Blue Ridge Mountains and just over an hour from the Washington D.C. area. After exploring Virginia Wine Country\, why not extend your visit and enjoy an overnight stay in Bluemont\, Virginia? View our four unique Bluemont Cottages surrounding our property\, each conveniently located in proximity to Bluemont Vineyard\, Great Country Farms\, Henway Hard Cider and Dirt Farm Brewing. From the private Stone Cottage built for two\, to the three-bedroom Blue Door Cottage\, we’ve designed four perfect Virginia Wine Country stays and getaways. \n  \nAlso\, check out other food and wine pairings at The Reserve at Bluemont Vineyard including Macarons and Wine Tapas & Wine and the newly release Conche Chocolate & Wine Pairing.
URL:https://experiencebluemont.com/event/taste-of-rose/
LOCATION:Bluemont Vineyard\, 18755 Foggy Bottom Road\, Bluemont\, VA\, 20135\, United States
ATTACH;FMTTYPE=image/jpeg:https://experiencebluemont.com/wp-content/uploads/2023/05/6W5A9233-scaled.jpg
END:VEVENT
BEGIN:VEVENT
DTSTART;VALUE=DATE:20230619
DTEND;VALUE=DATE:20230624
DTSTAMP:20260420T104042
CREATED:20230519T220227Z
LAST-MODIFIED:20230519T220227Z
UID:1886-1687132800-1687564799@experiencebluemont.com
SUMMARY:Teacher Appreciation Week
DESCRIPTION:Experience Bluemont Teacher Appreciation Week\n  \nTeachers are the true superheroes\, shaping young minds and making a difference in the lives of students every day. To show our appreciation for their hard work and dedication\, we’re thrilled to bring back Experience Bluemont Teacher Appreciation Week. This event features a week-long celebration filled with exclusive offers and discounts just for educators!\n  \nFrom Monday\, June 19th to Friday\, June 23rd\, educators can enjoy a well-deserved break along with discounts to our family farm and sister properties. Educators include teachers\, school bus drivers\, cafeteria teams and school resource personnel and administrators. \nHere’s what you can look forward to: \nComplimentary Admission to Great Country Farms \nStart your with a visit to Great Country Farms\, where local educators and their families can explore the play area\, orchards and farm market\, surrounded by scenic views. Immerse yourself in farm life and enjoy the benefits of it’s bounty. Admission is on us as a token of our gratitude. \nSip like a local at Bluemont Vineyard \nThen indulge in a well-deserved treat at Bluemont Vineyard\, where educators can savor the flavors of Virginia Wine Country. Raise a glass to your accomplishments with $5.00 glasses of seasonal sangria and refreshing wine slushies\, plus $5.00 cans of Henway Hard Cider. \nSip like a local at Dirt Farm Brewing \nEnjoy the tranquil ambiance and treat yourself to half-priced pints of handcrafted beers at Dirt Farm Brewing. Savor the unique flavors and soak up the epic brews and views. See the current tap list HERE! \n  \nAs an educator\, you’ve dedicated yourself to shaping the future\, and it’s our turn to give back. Take this opportunity to unwind\, rejuvenate\, and enjoy the unparalleled beauty of Bluemont. You’ve earned it! \nPlease note that valid teacher identification is required to redeem these exclusive offers. \n  \nOur farm vineyard is located at the foot of the Blue Ridge Mountains and just over an hour from the Washington D.C. area. Looking to extend your visit and enjoy an overnight stay in Bluemont\, Virginia? View our four unique Bluemont Cottages surrounding our property\, each conveniently located in proximity to Bluemont Vineyard\, Great Country Farms\, Henway Hard Cider and Dirt Farm Brewing. From the private Stone Cottage built for two\, to the three-bedroom Blue Door Cottage\, we’ve designed four perfect Virginia Wine Country stays and getaways.
URL:https://experiencebluemont.com/event/teacher-appreciation-week/
LOCATION:Great Country Farms\, 34345 Snickersville Turnpike\, Bluemont\, VA\, 20135\, United States
ATTACH;FMTTYPE=image/jpeg:https://experiencebluemont.com/wp-content/uploads/2021/08/Great-Country-Farms-21-PHOTO.jpg
END:VEVENT
END:VCALENDAR