BEGIN:VCALENDAR
VERSION:2.0
PRODID:-//The Cottages at Bluemont - ECPv6.0.13.1//NONSGML v1.0//EN
CALSCALE:GREGORIAN
METHOD:PUBLISH
X-ORIGINAL-URL:https://experiencebluemont.com
X-WR-CALDESC:Events for The Cottages at Bluemont
REFRESH-INTERVAL;VALUE=DURATION:PT1H
X-Robots-Tag:noindex
X-PUBLISHED-TTL:PT1H
BEGIN:VTIMEZONE
TZID:America/New_York
BEGIN:DAYLIGHT
TZOFFSETFROM:-0500
TZOFFSETTO:-0400
TZNAME:EDT
DTSTART:20230312T070000
END:DAYLIGHT
BEGIN:STANDARD
TZOFFSETFROM:-0400
TZOFFSETTO:-0500
TZNAME:EST
DTSTART:20231105T060000
END:STANDARD
END:VTIMEZONE
BEGIN:VEVENT
DTSTART;VALUE=DATE:20230526
DTEND;VALUE=DATE:20230530
DTSTAMP:20260420T151216
CREATED:20230407T174443Z
LAST-MODIFIED:20230407T174443Z
UID:1834-1685059200-1685404799@experiencebluemont.com
SUMMARY:Memorial Day Weekend at Dirt Farm Brewing
DESCRIPTION:Spend Memorial Day Weekend at Dirt Farm Brewing!\n  \nThank you to all the men\, women and their families\, who gave the ultimate sacrifice for our great nation. All weekend long\, we will have a full line up of Dirt Farm beers on tap and summertime food specials from our Kitchen Workshop. Join us as we celebrate this day of remembrance! \nOpen Daily 12-7pm\nFridays ‘till 9pm\nSaturday + Sunday 11-7pm \nCheck out how to make the most of your time in Bluemont\, Va – CLICK HERE!
URL:https://experiencebluemont.com/event/memorial-day-weekend-at-dirt-farm-brewing/
LOCATION:Dirt Farm Brewing\, 18701 Foggy Bottom Road\, Bluemont\, 20135\, United States
ATTACH;FMTTYPE=image/jpeg:https://experiencebluemont.com/wp-content/uploads/2022/04/Photo-Nov-10-3-06-16-PM.jpg
ORGANIZER;CN="Dirt%20Farm%20Brewing":MAILTO:info@dirtfarmbrewing.com
END:VEVENT
BEGIN:VEVENT
DTSTART;VALUE=DATE:20230528
DTEND;VALUE=DATE:20230531
DTSTAMP:20260420T151216
CREATED:20230519T171607Z
LAST-MODIFIED:20230519T204206Z
UID:1866-1685232000-1685491199@experiencebluemont.com
SUMMARY:Memorial Day Weekend at Bluemont Vineyard
DESCRIPTION:Celebrate Memorial Day Weekend at Bluemont Vineyard. An iconic destination for wine\, food\, live music and panoramic views of the Loudoun Valley!\n  \nThe Bluemont Vineyard 951 Tasting Room invites you to savor award-winning wines by the glass or bottle and explore our large menu of curated fare for Memorial Day Weekend at Bluemont Vineyard. Plus\, get ready to welcome back your favorite sips of the Summer – wine slushies and sangria! We’ll be serving up  seasonal strawberry sangria and wine slushies all weekend long\, the perfect pairing to a patio hang. \nAs if that’s not enough – enjoy live music daily\, Saturday – Monday\, from 2:00 – 5:00 p.m. on the patio. Soak up some sun\, sip on some vino\, enjoy the views all while enjoying the tunes from some of the area’s best local musicians. \nWhether you’re a wine enthusiast\, a live music lover or just looking for an afternoon out\, the Loudoun Valley provides the perfect backdrop for a memorable day in Virginia Wine Country. \nDon’t miss out on the Memorial Day Weekend at Bluemont Vineyard fun! Bring your friends and the whole family to join us for a relaxing weekend of wine\, music and good vibes at Bluemont Vineyard. \n  \nOur farm vineyard is located at the foot of the Blue Ridge Mountains and just over an hour from the Washington D.C. area. Looking to extend your visit and enjoy an overnight stay in Bluemont\, Virginia? View our four unique Bluemont Cottages surrounding our property\, each conveniently located in proximity to Bluemont Vineyard\, Great Country Farms\, Henway Hard Cider and Dirt Farm Brewing. From the private Stone Cottage built for two\, to the three-bedroom Blue Door Cottage\, we’ve designed four perfect Virginia Wine Country stays and getaways.
URL:https://experiencebluemont.com/event/memorial-day-weekend-at-bluemont-vineyard/
LOCATION:Bluemont Vineyard\, 18755 Foggy Bottom Road\, Bluemont\, VA\, 20135\, United States
ATTACH;FMTTYPE=image/jpeg:https://experiencebluemont.com/wp-content/uploads/2023/05/Photo-Jul-03-1-17-21-PM-1.jpg
ORGANIZER;CN="Bluemont%20Vineyard":MAILTO:events@bluemontvineyard.com
END:VEVENT
END:VCALENDAR