BEGIN:VCALENDAR
VERSION:2.0
PRODID:-//The Cottages at Bluemont - ECPv6.0.13.1//NONSGML v1.0//EN
CALSCALE:GREGORIAN
METHOD:PUBLISH
X-WR-CALNAME:The Cottages at Bluemont
X-ORIGINAL-URL:https://experiencebluemont.com
X-WR-CALDESC:Events for The Cottages at Bluemont
REFRESH-INTERVAL;VALUE=DURATION:PT1H
X-Robots-Tag:noindex
X-PUBLISHED-TTL:PT1H
BEGIN:VTIMEZONE
TZID:America/New_York
BEGIN:DAYLIGHT
TZOFFSETFROM:-0500
TZOFFSETTO:-0400
TZNAME:EDT
DTSTART:20230312T070000
END:DAYLIGHT
BEGIN:STANDARD
TZOFFSETFROM:-0400
TZOFFSETTO:-0500
TZNAME:EST
DTSTART:20231105T060000
END:STANDARD
END:VTIMEZONE
BEGIN:VEVENT
DTSTART;VALUE=DATE:20230515
DTEND;VALUE=DATE:20230522
DTSTAMP:20260420T070517
CREATED:20230331T184847Z
LAST-MODIFIED:20230331T184847Z
UID:1826-1684108800-1684713599@experiencebluemont.com
SUMMARY:Celebrate American Craft Beer Week at Dirt Farm Brewing
DESCRIPTION:Celebrate American Craft Beer Week at Dirt Farm Brewing!\n  \nAmerican Craft Beer Week Calendar:\nMonday\, May 15: a good drinkin’ day!\nTuesday\, May 16: Case Sale – 30% off all cases of beer to-go + Happy Hour – half price pints from 3-5pm\nWednesday\, May 17: Happy Hour – half price pints from 3-5pm\nThursday\, May 18: Happy Hour – half price pints from 3-5pm\nFriday\, May 19: Live Music by Dan Chute 5-8pm\nSaturday\, May 20: Glaze-Your-Own Raku Bowl Firing with Althouse Pottery\nSunday\, May 21: Glaze-Your-Own Raku Bowl Firing with Althouse Pottery + Pints and Paws Dog Event! \nNo matter what you’re drinking\, we hope you are drinking independent local craft beer! Cheers\, y’all! \nSee what other fun events we have going on in Bluemont\, Va – HERE!
URL:https://experiencebluemont.com/event/celebrate-american-craft-beer-week-at-dirt-farm-brewing/
LOCATION:Dirt Farm Brewing\, 18701 Foggy Bottom Road\, Bluemont\, 20135\, United States
ATTACH;FMTTYPE=image/jpeg:https://experiencebluemont.com/wp-content/uploads/2023/03/998A2073-scaled-e1680288488491.jpg
ORGANIZER;CN="Dirt%20Farm%20Brewing":MAILTO:info@dirtfarmbrewing.com
END:VEVENT
END:VCALENDAR